BEGIN:VCALENDAR
VERSION:2.0
PRODID:-//eventon.com NONSGML v1.0//EN
CALSCALE:GREGORIAN
METHOD:PUBLISH
BEGIN:VEVENT
UID:69e4e3f29e454
DTSTAMP:20260419T141722Z
DTSTART:20190222T104500Z
DTEND:20190222T235000Z
LOCATION:Soria
SUMMARY:UGT: Memoria histórica de la clase obrera
DESCRIPTION:El próximo 22 de febrero se celebrará en Soria la conferencia
  'UGT: Memoria histórica de la clase obrera. Pasado\,  presente y futuro'.
 \nhttps://130aniversariougt.es/events/ugt-memoria-historica-de-la-clase-obr
 era-soria/
URL:https://130aniversariougt.es/events/ugt-memoria-historica-de-la-clase-obrera-soria/
END:VEVENT
END:VCALENDAR